BEGIN:VCALENDAR
VERSION:2.0
PRODID:-//ALAS - ECPv6.15.20//NONSGML v1.0//EN
CALSCALE:GREGORIAN
METHOD:PUBLISH
X-ORIGINAL-URL:https://www.alianzalatinawi.org
X-WR-CALDESC:Events for ALAS
REFRESH-INTERVAL;VALUE=DURATION:PT1H
X-Robots-Tag:noindex
X-PUBLISHED-TTL:PT1H
BEGIN:VTIMEZONE
TZID:America/Chicago
BEGIN:DAYLIGHT
TZOFFSETFROM:-0600
TZOFFSETTO:-0500
TZNAME:CDT
DTSTART:20230312T080000
END:DAYLIGHT
BEGIN:STANDARD
TZOFFSETFROM:-0500
TZOFFSETTO:-0600
TZNAME:CST
DTSTART:20231105T070000
END:STANDARD
BEGIN:DAYLIGHT
TZOFFSETFROM:-0600
TZOFFSETTO:-0500
TZNAME:CDT
DTSTART:20240310T080000
END:DAYLIGHT
BEGIN:STANDARD
TZOFFSETFROM:-0500
TZOFFSETTO:-0600
TZNAME:CST
DTSTART:20241103T070000
END:STANDARD
BEGIN:DAYLIGHT
TZOFFSETFROM:-0600
TZOFFSETTO:-0500
TZNAME:CDT
DTSTART:20250309T080000
END:DAYLIGHT
BEGIN:STANDARD
TZOFFSETFROM:-0500
TZOFFSETTO:-0600
TZNAME:CST
DTSTART:20251102T070000
END:STANDARD
BEGIN:DAYLIGHT
TZOFFSETFROM:-0600
TZOFFSETTO:-0500
TZNAME:CDT
DTSTART:20260308T080000
END:DAYLIGHT
BEGIN:STANDARD
TZOFFSETFROM:-0500
TZOFFSETTO:-0600
TZNAME:CST
DTSTART:20261101T070000
END:STANDARD
END:VTIMEZONE
BEGIN:VEVENT
DTSTART;TZID=America/Chicago:20250720T100000
DTEND;TZID=America/Chicago:20250720T180000
DTSTAMP:20260424T034208
CREATED:20250409T205329Z
LAST-MODIFIED:20250409T205329Z
UID:10000320-1753005600-1753034400@www.alianzalatinawi.org
SUMMARY:Blue Lotus- Fun in the Sun!
DESCRIPTION:Blue Lotus – Fun in the Sun!\nSpend a joyful day outdoors at Blue Lotus Farm & Retreat Center\, where families facing life’s challenges can relax\, connect\, and explore. From boating and basketball to nature walks\, swimming\, and fishing\, there’s something for everyone—no judgment\, just joy. Accessible features include restrooms\, a pool lift\, paved walking trails\, a fishing pier\, and a boat launch. \n🌼 Note: A $50 refundable deposit is required per family. This deposit will be returned upon attendance at the event. Space is limited—sign up today!
URL:https://www.alianzalatinawi.org/event/blue-lotus-fun-in-the-sun/
LOCATION:Blue Lotus Center\, 5501 Co Hwy M\, West Bend\, WI\, 53095\, United States
CATEGORIES:Event Type 6
ATTACH;FMTTYPE=image/png:https://www.alianzalatinawi.org/wp-content/uploads/2025/04/Blue-Lotus-Event-Image.png
ORGANIZER;CN="ALAS":MAILTO:alasinc@alianzalatinawi.org
END:VEVENT
BEGIN:VEVENT
DTSTART;VALUE=DATE:20240728
DTEND;VALUE=DATE:20240729
DTSTAMP:20260424T034208
CREATED:20240607T202949Z
LAST-MODIFIED:20240607T202949Z
UID:10000037-1722124800-1722211199@www.alianzalatinawi.org
SUMMARY:Fun in the Sun!
DESCRIPTION:Blue Lotus Farm & Retreat Center exists for people facing life’s greatest challenges and provides the opportunity to participate in a variety of stimulating and beneficial activities in a safe and private environment without fear of judgment. Blue Lotus activities cater to a wide variety of interests\, from boating to basketball\, nature walks\, fishing and biking. Accessible amenities include: restrooms\, pool lift\, walking trails\, fishing pier and boat launch. \nOn this day\, the Blue Lotus Farm & Retreat Center is reserved only for ALAS families. \nRegistration is currently closed for this event.
URL:https://www.alianzalatinawi.org/event/fun-in-the-sun/
LOCATION:Blue Lotus Center\, 5501 Co Hwy M\, West Bend\, WI\, 53095\, United States
ATTACH;FMTTYPE=image/png:https://www.alianzalatinawi.org/wp-content/uploads/2024/06/BlueLotus.png
ORGANIZER;CN="Diana Becerra":MAILTO:diana@alianzalatinawi.org
END:VEVENT
END:VCALENDAR