BEGIN:VCALENDAR
VERSION:2.0
PRODID:-//ALAS - ECPv6.15.20//NONSGML v1.0//EN
CALSCALE:GREGORIAN
METHOD:PUBLISH
X-ORIGINAL-URL:https://www.alianzalatinawi.org
X-WR-CALDESC:Events for ALAS
REFRESH-INTERVAL;VALUE=DURATION:PT1H
X-Robots-Tag:noindex
X-PUBLISHED-TTL:PT1H
BEGIN:VTIMEZONE
TZID:America/Chicago
BEGIN:DAYLIGHT
TZOFFSETFROM:-0600
TZOFFSETTO:-0500
TZNAME:CDT
DTSTART:20250309T080000
END:DAYLIGHT
BEGIN:STANDARD
TZOFFSETFROM:-0500
TZOFFSETTO:-0600
TZNAME:CST
DTSTART:20251102T070000
END:STANDARD
BEGIN:DAYLIGHT
TZOFFSETFROM:-0600
TZOFFSETTO:-0500
TZNAME:CDT
DTSTART:20260308T080000
END:DAYLIGHT
BEGIN:STANDARD
TZOFFSETFROM:-0500
TZOFFSETTO:-0600
TZNAME:CST
DTSTART:20261101T070000
END:STANDARD
BEGIN:DAYLIGHT
TZOFFSETFROM:-0600
TZOFFSETTO:-0500
TZNAME:CDT
DTSTART:20270314T080000
END:DAYLIGHT
BEGIN:STANDARD
TZOFFSETFROM:-0500
TZOFFSETTO:-0600
TZNAME:CST
DTSTART:20271107T070000
END:STANDARD
END:VTIMEZONE
BEGIN:VEVENT
DTSTART;TZID=America/Chicago:20260402T173000
DTEND;TZID=America/Chicago:20260402T183000
DTSTAMP:20260423T033513
CREATED:20251217T205744Z
LAST-MODIFIED:20251217T205744Z
UID:10000406-1775151000-1775154600@www.alianzalatinawi.org
SUMMARY:Porch Play with Pink Umbrella
DESCRIPTION:Join us for Porch Play\, a fun and welcoming event for children ages 4-8 and their caregivers! Each session encourages creativity\, confidence\, and connection through storytelling\, hands-on activities\, and playful expression. \nLed by teaching artists from Pink Umbrella\, who specialize in special education\, inclusion\, theater\, and social-emotional learning\, Porch Play offers a space where every child and caregiver can feel supported. All materials are provided—just bring your imagination! \nJoin us for one session or come every month to create\, connect\, and make lasting memories together!
URL:https://www.alianzalatinawi.org/event/porch-play-with-pink-umbrella-3/2026-04-02/
ATTACH;FMTTYPE=image/png:https://www.alianzalatinawi.org/wp-content/uploads/2024/10/Porch-Play.png
ORGANIZER;CN="ALAS":MAILTO:alasinc@alianzalatinawi.org
END:VEVENT
BEGIN:VEVENT
DTSTART;TZID=America/Chicago:20260410T103000
DTEND;TZID=America/Chicago:20260410T113000
DTSTAMP:20260423T033513
CREATED:20251209T161444Z
LAST-MODIFIED:20251209T162631Z
UID:10000384-1775817000-1775820600@www.alianzalatinawi.org
SUMMARY:Every Bite Counts: How Food Shapes Our Children’s Mood\, Energy\, and Well-Being — Across All Abilities
DESCRIPTION:Join us for this free workshop for parents and caregivers. In this session\, you will learn how food can influence your child’s mood\, energy\, sleep\, and daily behavior. We will explain this connection in clear\, simple language and share practical strategies you can use at home. Families will learn how to build healthy eating habits\, even with busy schedules or selective eaters. We will also talk about ways to support children of all abilities\, including those with sensory needs or feeding challenges. This workshop will be offered entirely in Spanish.
URL:https://www.alianzalatinawi.org/event/every-bite-counts-food-and-wellbeing-workshop/
LOCATION:Zoom
CATEGORIES:Event Type 15
ATTACH;FMTTYPE=image/jpeg:https://www.alianzalatinawi.org/wp-content/uploads/2025/12/healthyfood-scaled.jpg
ORGANIZER;CN="ALAS":MAILTO:alasinc@alianzalatinawi.org
END:VEVENT
BEGIN:VEVENT
DTSTART;TZID=America/Chicago:20260417T103000
DTEND;TZID=America/Chicago:20260417T113000
DTSTAMP:20260423T033513
CREATED:20251217T200359Z
LAST-MODIFIED:20251217T200734Z
UID:10000393-1776421800-1776425400@www.alianzalatinawi.org
SUMMARY:Support Group – Connecting Hearts\, Sharing Strengths
DESCRIPTION:Looking for a safe and welcoming space to connect with others who understand your journey—without leaving home? Our virtual support group offers a compassionate\, inclusive environment where individuals and families can meet online to share experiences\, gain valuable insights\, and receive emotional support. These sessions provide a safe\, respectful space to connect in Spanish from wherever you are\, making participation more accessible and comfortable. Whether you’re seeking advice\, encouragement\, or simply a listening ear\, our virtual meetings empower those navigating diverse abilities. Together\, we celebrate challenges\, successes\, and shared stories while building strength and community through meaningful connection.
URL:https://www.alianzalatinawi.org/event/support-group-connecting-hearts-sharing-strengths-3/
LOCATION:Zoom
ATTACH;FMTTYPE=image/png:https://www.alianzalatinawi.org/wp-content/uploads/2025/01/SG-In-Person.png
ORGANIZER;CN="ALAS":MAILTO:alasinc@alianzalatinawi.org
END:VEVENT
BEGIN:VEVENT
DTSTART;TZID=America/Chicago:20260424T103000
DTEND;TZID=America/Chicago:20260424T113000
DTSTAMP:20260423T033513
CREATED:20251208T203440Z
LAST-MODIFIED:20260413T181530Z
UID:10000383-1777026600-1777030200@www.alianzalatinawi.org
SUMMARY:Special Education Tutoring & Homework Help: What Are the Options? (English Workshop)
DESCRIPTION:Join us for this free workshop for parents and caregivers. In this session\, you will learn about different tutoring and homework help options for students who receive special education services. We will explain these supports in clear language and show how they can meet your child’s learning needs. \nYou will also learn simple ways to understand what kind of help your child may need. We will share easy tools that help you talk with teachers\, choose the right supports\, and encourage learning at home. By the end of the workshop\, you will feel more confident finding resources and supporting your child’s progress in school. \nPlease note: This workshop will be offered entirely in English.
URL:https://www.alianzalatinawi.org/event/special-education-tutoring-and-homework-help-english-workshop/
LOCATION:Zoom
ATTACH;FMTTYPE=image/png:https://www.alianzalatinawi.org/wp-content/uploads/2025/12/homework2.png
ORGANIZER;CN="ALAS":MAILTO:alasinc@alianzalatinawi.org
END:VEVENT
BEGIN:VEVENT
DTSTART;TZID=America/Chicago:20260427T180000
DTEND;TZID=America/Chicago:20260427T190000
DTSTAMP:20260423T033513
CREATED:20250124T191304Z
LAST-MODIFIED:20251219T210955Z
UID:10000417-1777312800-1777316400@www.alianzalatinawi.org
SUMMARY:ALAS Work Group Meeting
DESCRIPTION:Our work groups are small teams dedicated to turning ideas into action. These groups bring together board members\, community stakeholders\, and volunteers to focus on specific projects. \nEach group works toward clear goals\, like creating new programs\, improving advocacy efforts\, or making resources more accessible for families with diverse abilities. By working together\, we ensure our mission has a real and lasting impact. \nIf you’d like to join a work group or learn more\, please contact us. Together\, we can build a stronger\, more inclusive community.
URL:https://www.alianzalatinawi.org/event/alas-work-group-meeting/2026-04-27/
LOCATION:Zoom
CATEGORIES:Event Type 6
ATTACH;FMTTYPE=image/png:https://www.alianzalatinawi.org/wp-content/uploads/2025/01/3.28.25-CLTS.png
ORGANIZER;CN="Elsa Diaz-Bautista":MAILTO:elsa@alianzalatinawi.org
END:VEVENT
END:VCALENDAR